BEGIN:VCALENDAR
VERSION:2.0
PRODID:-//Drupal//recurring_events_ical//2.0//EN
BEGIN:VEVENT
UID:059ebedd-cfbe-4fb6-a440-8a4751812c1d@support.access-ci.org
DTSTAMP:20250327T111318Z
DTSTART:20250430T150000Z
DTEND:20250501T200000Z
SUMMARY:COMPLECS: Getting Started with HPC
DESCRIPTION:This two-day virtual workshop is an extension of the COMPLECS 
 webinar series to provide more in-depth discussion and complementary hand
 s-on experience. This opportunity is designed to help users strengthen ski
 lls using Advanced Cyberinfrastructure and shared HPC (High-Performance Co
 mputing) systems.  This workshop is primarily focused on non-code develop
 ers to help them navigate and effectively utilize HPC resources. Training 
 accounts for those attending will be provided for the hands-on activities.
  Topics covered include HPC architecture, file systems, access, parallel c
 omputing concepts, data storage and transfer, batch scheduling with Slurm,
  interactive computing, intermediate Linux, and shell scripting. Prerequi
 sites:  Experience with Linux and command-line toolsWho is it for?: Thi
 s workshop is primarily focused for users new to HPC or novice non-code de
 velopers to help navigate and effectively utilize HPC resources.   Specif
 ically looking for  users looking for ways to improve understanding and e
 fficiency of their workflows.Day 1: Wednesday, April 30 from 8:00am - 1:00
 pm (PT)8:00am - 8:15am: Welcome and Introductions8:15am - 10:30am: Data Ma
 nagement: Data storage, Data transfers, and File Systems0:30am - 10:45am: 
 Break10:45am - 1:00pm: Intermediate Linux and Shell ScriptingDay 2: Thursd
 ay, May 1 from 8:00am - 1:00pm (PT)8:00am - 8:15am: Discussion about Previ
 ous Day8:00am - 9:30am: Parallel Computing Concepts  9:30am - 11:00am: Co
 de Migration and Software Environments11:00am - 11:15am: Break11:15am - 1:
 00pm: Running Jobs (batch, interactive)1:00pm - 1:15pm: Q&A, Post Survey, 
 Wrap-upRegistration cost: Academia (Faculty, Researcher or Staff): $50.0
 0Student (Graduate, Postdoctoral, or Undergraduate): $50.00Government/Non
 -Profit Organization: $50.00Industry: $75.00 Registration is limited to t
 he first 40 registrants - or - will close on Wednesday, April 16, whicheve
 r comes first. 
URL:https://support.access-ci.org/events/7889
END:VEVENT
END:VCALENDAR