BEGIN:VCALENDAR
VERSION:2.0
PRODID:-//Drupal//recurring_events_ical//2.0//EN
BEGIN:VEVENT
UID:28428c1a-d426-4e19-bb1d-b85d4afa3340@support.access-ci.org
DTSTAMP:20250331T140800Z
DTSTART:20250513T180000Z
DTEND:20250513T193000Z
SUMMARY:Cheap & FAIR Data Practices ( Advanced HPC-CI Webinar Series)
DESCRIPTION:SummaryThis webinar will cover practices that projects at all s
 cales can adopt to promote using the FAIR data principles in their work. I
  will demonstrate how to apply these practices by deploying a data portal 
 using the Serverless Research Data Repository (SRDR) model, building on fr
 ee and allocated resources like Globus collections and GitHub repositories
 . During the webinar, participants will learn the basic components of a re
 search data repository, FAIR data guidelines, dataset elements including f
 iles, metadata, identifiers, and landing pages, the role of machine-readab
 le metadata in data discovery, and how to apply access control policies to
  datasets.InstructorDr. Rick Wagner is the Chief Technology Officer (CTO) 
 at SDSC. Previously, he was the Globus Professional Services Manager, wher
 e he led the development of several data portals and architected the Djang
 o Globus Portal Framework. He has supported FAIR data in astrophysics, cli
 mate science, and bioinformatics.See a full list of SDSC's upcoming traini
 ng and events here.
URL:https://support.access-ci.org/events/7895
END:VEVENT
END:VCALENDAR