BEGIN:VCALENDAR
VERSION:2.0
PRODID:-//Drupal//recurring_events_ical//2.0//EN
BEGIN:VEVENT
UID:a4f9b413-f262-403d-91ed-9e0b058a4cc5@support.access-ci.org
DTSTAMP:20250512T125623Z
DTSTART:20250603T130000Z
DTEND:20250603T210000Z
SUMMARY:NVIDIA’s Fundamentals of Accelerated Data Science
DESCRIPTION:Join NVIDIA’s Deep Learning Institute (DLI) for a series of f
 ree, virtual faculty development workshops providing hands-on experience w
 ith GPU-accelerated servers in the cloud and instructor training from real
  educators in the areas of Deep Learning, Generative AI and Large Language
  Models (LLMs), Data Science and Accelerated Computing.Each workshop is le
 d by a DLI Certified Instructor and offer an opportunity to earn an indust
 ry-recognized certificate of competency that counts towards the instructor
  certification process for the workshop under the DLI University Ambassado
 r Program. Participants are encouraged to apply for instructor certificati
 on after each workshop completed.Participants are encouraged to take all t
 hree workshops for one Instructor Specialization, but not required. More i
 nformation about Instructor Specializations and general benefits of instru
 ctor certification under the DLI Ambassador Program can be found in the pr
 ogram benefits guide. 
URL:https://support.access-ci.org/events/8015
END:VEVENT
END:VCALENDAR