BEGIN:VCALENDAR
VERSION:2.0
PRODID:-//Drupal//recurring_events_ical//2.0//EN
BEGIN:VEVENT
UID:6eb485b5-fe24-4b9b-92a8-18711db2f196@support.access-ci.org
DTSTAMP:20250527T072255Z
DTSTART:20250527T130000Z
DTEND:20250527T203000Z
SUMMARY:Neocortex Workshop presented by PSC and Cerebras Systems
DESCRIPTION:Researchers are invited to join this interactive, in-person wor
 kshop introducing the powerful Cerebras CS systems available through the N
 SF-funded Neocortex project at the Pittsburgh Supercomputing Center (PSC).
 Description:Learn how the revolutionary Cerebras technologies can accelera
 te your research with presentations on system architecture, capabilities a
 nd research applications. Discover how Neocortex resources can support you
 r team’s AI and HPC workloads.Learn about submitting jobs, adapting doma
 in-specific models, and optimizing training workflows on Neocortex. Our te
 chnical experts will demonstrate technology capabilities and share instruc
 tions to tutorials and hands-on materials to help you hit the ground runni
 ng with your own projects.See the workshop agenda.This workshop is designe
 d for both machine learning researchers and domain experts looking to leve
 rage AI models in their work. No prior experience with Cerebras systems is
  required.
URL:https://support.access-ci.org/events/8018
END:VEVENT
END:VCALENDAR