BEGIN:VCALENDAR
VERSION:2.0
PRODID:-//Drupal//recurring_events_ical//2.0//EN
BEGIN:VEVENT
UID:3795e3be-9c5f-46fe-8f51-959248723e2a@support.access-ci.org
DTSTAMP:20250822T172739Z
DTSTART:20250730T170000Z
DTEND:20250730T180000Z
SUMMARY:CU-RMACC Webinars: Overview of AI Tools and Applications
DESCRIPTION:CU-RMACC Webinars: Overview of AI Tools and ApplicationsJoin Gi
 l Speyer (Director, Research Technology Office Computational Research Acce
 lerator - Arizona State University) as he discusses current AI tools and h
 ow to utilize them. The Zoom webinar registration link will be available O
 NE WEEK before the event and will be emailed to the address you provide in
  this interest form.
URL:https://support.access-ci.org/events/8094
END:VEVENT
END:VCALENDAR