BEGIN:VCALENDAR
VERSION:2.0
PRODID:-//Drupal//recurring_events_ical//2.0//EN
BEGIN:VEVENT
UID:9935bb25-ee77-4825-85f4-fff7fc91befb@support.access-ci.org
DTSTAMP:20250728T125944Z
DTSTART:20250812T200000Z
DTEND:20250812T204500Z
SUMMARY:Transforming Scientific Discovery with AI/ML and Globus
DESCRIPTION:AI research and development processes rely on complex, distribu
 ted workflows involving massive data, specialized instruments, and high-pe
 rformance computers. Globus provides a secure, scalable hybrid cloud-edge 
 platform that supports data, computation, and automation management across
  diverse cyberinfrastructure. In this talk, we will describe how Globus is
  being used to enable and accelerate AI workflows—from enabling real-tim
 e data collection and analysis at experimental facilities to supporting di
 stributed model training and inference.
URL:https://support.access-ci.org/events/8103
END:VEVENT
END:VCALENDAR