BEGIN:VCALENDAR
VERSION:2.0
PRODID:-//Drupal//recurring_events_ical//2.0//EN
BEGIN:VEVENT
UID:9610f2fc-1455-40bc-b73a-b8ba2ebb5e92@support.access-ci.org
DTSTAMP:20250828T155728Z
DTSTART:20250909T150000Z
DTEND:20250909T173000Z
SUMMARY:ACES: Software for AI on HPC
DESCRIPTION:This course will provide an overview of the resources available
  on the ACES cluster to support AI workflows and applications. We will int
 roduce a wide range of tools useful for management of software, data, and 
 jobs. Later classes taught by HPRC will expand on individual topics.Read m
 ore about this short course at https://hprc.tamu.edu/training/aces_ai_soft
 ware.html
URL:https://support.access-ci.org/events/8398
END:VEVENT
END:VCALENDAR