BEGIN:VCALENDAR
VERSION:2.0
PRODID:-//Drupal//recurring_events_ical//2.0//EN
BEGIN:VEVENT
UID:1e8fe5c3-d1e9-455e-b23a-c893b64b2f71@support.access-ci.org
DTSTAMP:20250902T111840Z
DTSTART:20250916T170000Z
DTEND:20250916T190000Z
SUMMARY:National Research Platform Fall Training Series
DESCRIPTION:Join us for a month-long series of workshops, tutorials, and ha
 nds-on sessions designed to help you get started with the National Researc
 h Platform (NRP), accelerate your research, and connect with the community
 . Topics range from introductory overviews to advanced workflows with Kube
 rnetes, AI/LLMs, and CI/CD. Whether you're a new user or an experienced re
 searcher, there’s something for everyone. All sessions are recorded and 
 shared online.
URL:https://support.access-ci.org/events/8486
END:VEVENT
END:VCALENDAR