BEGIN:VCALENDAR
VERSION:2.0
PRODID:-//Drupal//recurring_events_ical//2.0//EN
BEGIN:VEVENT
UID:db62bb51-5576-4d9a-b6ce-d8d06321051b@support.access-ci.org
DTSTAMP:20251006T180710Z
DTSTART:20251204T050000Z
DTEND:20251206T045900Z
SUMMARY:LEVEL UP AI East Coast Workshop
DESCRIPTION:The NSF LEVEL UP AI (Launching an Educational Vision to Expand 
 Leadership, Understanding, and Progress in Artificial Intelligence) projec
 t brings together educators, researchers, and professionals across the com
 puting community to build a shared vision for expanding capacity and acces
 s to AI education.https://cra.org/level-up-ai/
URL:https://support.access-ci.org/events/8560
END:VEVENT
END:VCALENDAR