BEGIN:VCALENDAR
VERSION:2.0
PRODID:-//Drupal//recurring_events_ical//2.0//EN
BEGIN:VEVENT
UID:d8494632-c51b-4b04-a183-97324e0fd984@support.access-ci.org
DTSTAMP:20251006T180754Z
DTSTART:20260107T050000Z
DTEND:20260109T045900Z
SUMMARY:LEVEL UP AI West Coast Workshop
DESCRIPTION:The NSF LEVEL UP AI (Launching an Educational Vision to Expand 
 Leadership, Understanding, and Progress in Artificial Intelligence) projec
 t brings together educators, researchers, and professionals across the com
 puting community to build a shared vision for expanding capacity and acces
 s to AI education.https://cra.org/level-up-ai/
URL:https://support.access-ci.org/events/8561
END:VEVENT
END:VCALENDAR