BEGIN:VCALENDAR
VERSION:2.0
PRODID:-//Drupal//recurring_events_ical//2.0//EN
BEGIN:VEVENT
UID:82b623aa-4440-44bc-af5c-d56edfc016a8@support.access-ci.org
DTSTAMP:20251020T234819Z
DTSTART:20251104T160000Z
DTEND:20251104T183000Z
SUMMARY:ACES: GPU Programming (CUDA)
DESCRIPTION:This short course covers basic topics in CUDA programming on NV
 IDIA GPUs. Topics include\n\n\n	CUDA architecture\n	basic language usage o
 f CUDA C/C++\n	writing, executing CUDA code.\n\n\nMore information about 
 this Short Course https://hprc.tamu.edu/training/intro_cuda.html
URL:https://support.access-ci.org/events/8617
END:VEVENT
END:VCALENDAR