BEGIN:VCALENDAR
VERSION:2.0
PRODID:-//Drupal//recurring_events_ical//2.0//EN
BEGIN:VEVENT
UID:ca3eab5e-b755-4c48-a752-dddd28857e70@support.access-ci.org
DTSTAMP:20260406T121644Z
DTSTART:20251203T180000Z
DTEND:20251203T190000Z
SUMMARY:Starting Your Data Analysis with LLMs
DESCRIPTION:Getting to know a new data set is often a process of trial and 
 error.  LLMs have come a long way in their ability to assist in this proc
 ess.Join Jason Armbruster, Associate Deputy Director of ACCESS Support at 
 CU Boulder, for a session that will demonstrate an approach to exploring a
  new data set utilizing the coding and visualization capabilities of a few
  of the frontier models, and suggest some directions this work could go in
  the future.
URL:https://support.access-ci.org/events/8722
END:VEVENT
END:VCALENDAR