BEGIN:VCALENDAR
VERSION:2.0
PRODID:-//Drupal//recurring_events_ical//2.0//EN
BEGIN:VEVENT
UID:6a2f85b0-426c-4207-ab50-49f2cd3907e3@support.access-ci.org
DTSTAMP:20260105T113024Z
DTSTART:20260107T160000Z
DTEND:20260108T220000Z
SUMMARY:PSC MPI Programming Workshop - January 7-8, 2026 - Texas Tech Unive
 rsity
DESCRIPTION:HPC Monthly Workshop: MPI - January 7-8, 2026PSC is pleased to 
 present monthly workshops on a variety of HPC topics.   Each workshop wi
 ll be telecast to multiple satellite sites.This workshop is intended to gi
 ve C and Fortran programmers a hands-on introduction to MPI programming. B
 oth days are compact, to accommodate multiple time zones, but packed with 
 useful information and lab exercises. Attendees will leave with a working 
 knowledge of how to write scalable codes using MPI – the standard progra
 mming tool of scalable parallel computing.This event will be presented usi
 ng the Wide Area Classroom(WAC) training platform. This will be an IN PERS
 ON event hosted by various satellite sites, there WILL NOT be a direct to 
 desktop option for this event.RegistrationInterested applicants must first
  have an ACCESS ID.  If you do not have an ACCESS ID, please visit this p
 age to create one:ACCESS USER REGISTRATIONOnce you have an ACCESS ID, plea
 se first login, by going to https://access-ci.org/ and clicking on Login i
 n the top right hand corner.Then complete the registration process by Mond
 ay, January 5 at 11AM Eastern time. Wednesday, January 7All times given a
 re Eastern11:00Welcome11:15Computing Environment12:00Intro to Parallel Com
 puting1:00Lunch Break2:00Introduction to MPI3:30Introductory Exercises4:10
 Intro Exercises Review4:15Scalable Programming: Laplace code5:00Adjourn/La
 place Exercises Thursday, January 8All times given are Eastern11:00Advanc
 ed MPI1:00Lunch Break2:00Laplace Review2:30Outro to Parallel Computing3:15
 Parallel Debugging and Profiling Tools3:30Exercises4:30Adjourn 
URL:https://support.access-ci.org/events/8780
END:VEVENT
END:VCALENDAR