BEGIN:VCALENDAR
VERSION:2.0
PRODID:-//Drupal//recurring_events_ical//2.0//EN
BEGIN:VEVENT
UID:0c476188-1b2f-484a-95b2-c70cfe359203@support.access-ci.org
DTSTAMP:20260331T141619Z
DTSTART:20260421T183000Z
DTEND:20260421T210000Z
SUMMARY:ACES: Introduction to Julia
DESCRIPTION:This short course covers the essentials of numerical computing 
 and scientific programming with Julia, including core language concepts, b
 est practices, and key open-source tools.Read more at https://hprc.tamu.ed
 u/training/aces_julia.html 
URL:https://support.access-ci.org/events/9022
END:VEVENT
END:VCALENDAR